BEGIN:VCALENDAR
VERSION:2.0
PRODID:-//Fahrschule Gisela - ECPv6.15.20//NONSGML v1.0//EN
CALSCALE:GREGORIAN
METHOD:PUBLISH
X-ORIGINAL-URL:https://fahrschule-gisela.de
X-WR-CALDESC:Veranstaltungen für Fahrschule Gisela
REFRESH-INTERVAL;VALUE=DURATION:PT1H
X-Robots-Tag:noindex
X-PUBLISHED-TTL:PT1H
BEGIN:VTIMEZONE
TZID:Europe/Berlin
BEGIN:DAYLIGHT
TZOFFSETFROM:+0100
TZOFFSETTO:+0200
TZNAME:CEST
DTSTART:20250330T010000
END:DAYLIGHT
BEGIN:STANDARD
TZOFFSETFROM:+0200
TZOFFSETTO:+0100
TZNAME:CET
DTSTART:20251026T010000
END:STANDARD
BEGIN:DAYLIGHT
TZOFFSETFROM:+0100
TZOFFSETTO:+0200
TZNAME:CEST
DTSTART:20260329T010000
END:DAYLIGHT
BEGIN:STANDARD
TZOFFSETFROM:+0200
TZOFFSETTO:+0100
TZNAME:CET
DTSTART:20261025T010000
END:STANDARD
BEGIN:DAYLIGHT
TZOFFSETFROM:+0100
TZOFFSETTO:+0200
TZNAME:CEST
DTSTART:20270328T010000
END:DAYLIGHT
BEGIN:STANDARD
TZOFFSETFROM:+0200
TZOFFSETTO:+0100
TZNAME:CET
DTSTART:20271031T010000
END:STANDARD
END:VTIMEZONE
BEGIN:VEVENT
DTSTART;TZID=Europe/Berlin:20260302T173000
DTEND;TZID=Europe/Berlin:20260302T190000
DTSTAMP:20260424T152904
CREATED:20260128T170651Z
LAST-MODIFIED:20260128T170651Z
UID:39286-1772472600-1772478000@fahrschule-gisela.de
SUMMARY:Lektion 7
DESCRIPTION:Lektion 7
URL:https://fahrschule-gisela.de/unterricht-termine/lektion-7-64/
END:VEVENT
BEGIN:VEVENT
DTSTART;TZID=Europe/Berlin:20260302T193000
DTEND;TZID=Europe/Berlin:20260302T210000
DTSTAMP:20260424T152904
CREATED:20260128T170713Z
LAST-MODIFIED:20260128T170713Z
UID:39288-1772479800-1772485200@fahrschule-gisela.de
SUMMARY:Lektion 1
DESCRIPTION:Lektion 1
URL:https://fahrschule-gisela.de/unterricht-termine/lektion-1-74/
END:VEVENT
BEGIN:VEVENT
DTSTART;TZID=Europe/Berlin:20260303T180000
DTEND;TZID=Europe/Berlin:20260303T193000
DTSTAMP:20260424T152904
CREATED:20260128T170737Z
LAST-MODIFIED:20260128T170737Z
UID:39290-1772560800-1772566200@fahrschule-gisela.de
SUMMARY:Lektion 2
DESCRIPTION:Lektion 2
URL:https://fahrschule-gisela.de/unterricht-termine/lektion-2-71/
END:VEVENT
BEGIN:VEVENT
DTSTART;TZID=Europe/Berlin:20260304T173000
DTEND;TZID=Europe/Berlin:20260304T190000
DTSTAMP:20260424T152904
CREATED:20260128T170759Z
LAST-MODIFIED:20260128T170759Z
UID:39292-1772645400-1772650800@fahrschule-gisela.de
SUMMARY:Lektion 8
DESCRIPTION:Lektion 8
URL:https://fahrschule-gisela.de/unterricht-termine/lektion-8-65/
END:VEVENT
BEGIN:VEVENT
DTSTART;TZID=Europe/Berlin:20260304T193000
DTEND;TZID=Europe/Berlin:20260304T210000
DTSTAMP:20260424T152904
CREATED:20260128T170823Z
LAST-MODIFIED:20260128T170823Z
UID:39294-1772652600-1772658000@fahrschule-gisela.de
SUMMARY:Lektion 3
DESCRIPTION:Lektion 3
URL:https://fahrschule-gisela.de/unterricht-termine/lektion-3-69/
END:VEVENT
BEGIN:VEVENT
DTSTART;TZID=Europe/Berlin:20260305T180000
DTEND;TZID=Europe/Berlin:20260305T193000
DTSTAMP:20260424T152904
CREATED:20260128T170847Z
LAST-MODIFIED:20260128T170847Z
UID:39296-1772733600-1772739000@fahrschule-gisela.de
SUMMARY:Lektion 4
DESCRIPTION:Lektion 4
URL:https://fahrschule-gisela.de/unterricht-termine/lektion-4-64/
END:VEVENT
BEGIN:VEVENT
DTSTART;TZID=Europe/Berlin:20260306T180000
DTEND;TZID=Europe/Berlin:20260306T193000
DTSTAMP:20260424T152904
CREATED:20260128T170910Z
LAST-MODIFIED:20260128T170910Z
UID:39298-1772820000-1772825400@fahrschule-gisela.de
SUMMARY:Lektion 5
DESCRIPTION:Lektion 5
URL:https://fahrschule-gisela.de/unterricht-termine/lektion-5-73/
END:VEVENT
BEGIN:VEVENT
DTSTART;TZID=Europe/Berlin:20260307T110000
DTEND;TZID=Europe/Berlin:20260307T123000
DTSTAMP:20260424T152904
CREATED:20260128T170940Z
LAST-MODIFIED:20260128T170940Z
UID:39300-1772881200-1772886600@fahrschule-gisela.de
SUMMARY:Lektion 6
DESCRIPTION:Lektion 6
URL:https://fahrschule-gisela.de/unterricht-termine/lektion-6-68/
END:VEVENT
BEGIN:VEVENT
DTSTART;TZID=Europe/Berlin:20260309T173000
DTEND;TZID=Europe/Berlin:20260309T190000
DTSTAMP:20260424T152904
CREATED:20260307T144142Z
LAST-MODIFIED:20260307T144142Z
UID:55402-1773077400-1773082800@fahrschule-gisela.de
SUMMARY:Lektion 9
DESCRIPTION:Lektion 9
URL:https://fahrschule-gisela.de/unterricht-termine/lektion-9-67/
END:VEVENT
BEGIN:VEVENT
DTSTART;TZID=Europe/Berlin:20260309T193000
DTEND;TZID=Europe/Berlin:20260309T210000
DTSTAMP:20260424T152904
CREATED:20260307T144205Z
LAST-MODIFIED:20260307T144205Z
UID:55404-1773084600-1773090000@fahrschule-gisela.de
SUMMARY:Lektion 7
DESCRIPTION:Lektion 7
URL:https://fahrschule-gisela.de/unterricht-termine/lektion-7-65/
END:VEVENT
BEGIN:VEVENT
DTSTART;TZID=Europe/Berlin:20260310T180000
DTEND;TZID=Europe/Berlin:20260310T193000
DTSTAMP:20260424T152904
CREATED:20260307T144226Z
LAST-MODIFIED:20260307T144226Z
UID:55406-1773165600-1773171000@fahrschule-gisela.de
SUMMARY:Lektion 8
DESCRIPTION:Lektion 8
URL:https://fahrschule-gisela.de/unterricht-termine/lektion-8-66/
END:VEVENT
BEGIN:VEVENT
DTSTART;TZID=Europe/Berlin:20260311T173000
DTEND;TZID=Europe/Berlin:20260311T190000
DTSTAMP:20260424T152904
CREATED:20260307T144252Z
LAST-MODIFIED:20260307T144252Z
UID:55409-1773250200-1773255600@fahrschule-gisela.de
SUMMARY:Lektion 10
DESCRIPTION:Lektion 10
URL:https://fahrschule-gisela.de/unterricht-termine/lektion-10-65/
END:VEVENT
BEGIN:VEVENT
DTSTART;TZID=Europe/Berlin:20260311T193000
DTEND;TZID=Europe/Berlin:20260311T210000
DTSTAMP:20260424T152904
CREATED:20260307T144318Z
LAST-MODIFIED:20260307T144318Z
UID:55411-1773257400-1773262800@fahrschule-gisela.de
SUMMARY:Lektion 9
DESCRIPTION:Lektion 9
URL:https://fahrschule-gisela.de/unterricht-termine/lektion-9-68/
END:VEVENT
BEGIN:VEVENT
DTSTART;TZID=Europe/Berlin:20260312T180000
DTEND;TZID=Europe/Berlin:20260312T193000
DTSTAMP:20260424T152904
CREATED:20260307T144338Z
LAST-MODIFIED:20260307T144338Z
UID:55413-1773338400-1773343800@fahrschule-gisela.de
SUMMARY:Lektion 10
DESCRIPTION:Lektion 10
URL:https://fahrschule-gisela.de/unterricht-termine/lektion-10-66/
END:VEVENT
BEGIN:VEVENT
DTSTART;TZID=Europe/Berlin:20260313T180000
DTEND;TZID=Europe/Berlin:20260313T193000
DTSTAMP:20260424T152904
CREATED:20260307T144401Z
LAST-MODIFIED:20260307T144401Z
UID:55415-1773424800-1773430200@fahrschule-gisela.de
SUMMARY:Lektion 11
DESCRIPTION:Lektion 11
URL:https://fahrschule-gisela.de/unterricht-termine/lektion-11-65/
END:VEVENT
BEGIN:VEVENT
DTSTART;TZID=Europe/Berlin:20260314T110000
DTEND;TZID=Europe/Berlin:20260314T123000
DTSTAMP:20260424T152904
CREATED:20260307T144424Z
LAST-MODIFIED:20260307T144424Z
UID:55417-1773486000-1773491400@fahrschule-gisela.de
SUMMARY:Lektion 12
DESCRIPTION:Lektion 12
URL:https://fahrschule-gisela.de/unterricht-termine/lektion-12-63/
END:VEVENT
BEGIN:VEVENT
DTSTART;TZID=Europe/Berlin:20260314T130000
DTEND;TZID=Europe/Berlin:20260314T160000
DTSTAMP:20260424T152904
CREATED:20260307T144841Z
LAST-MODIFIED:20260307T144934Z
UID:55429-1773493200-1773504000@fahrschule-gisela.de
SUMMARY:2x Motorrad- Unterricht
DESCRIPTION:2 Motorrad- Unterrichte
URL:https://fahrschule-gisela.de/unterricht-termine/2x-motorrad-unterricht/
END:VEVENT
BEGIN:VEVENT
DTSTART;TZID=Europe/Berlin:20260316T173000
DTEND;TZID=Europe/Berlin:20260316T190000
DTSTAMP:20260424T152904
CREATED:20260307T144446Z
LAST-MODIFIED:20260307T144446Z
UID:55419-1773682200-1773687600@fahrschule-gisela.de
SUMMARY:Lektion 11
DESCRIPTION:Lektion 11
URL:https://fahrschule-gisela.de/unterricht-termine/lektion-11-66/
END:VEVENT
BEGIN:VEVENT
DTSTART;TZID=Europe/Berlin:20260316T193000
DTEND;TZID=Europe/Berlin:20260316T210000
DTSTAMP:20260424T152904
CREATED:20260307T144508Z
LAST-MODIFIED:20260307T144508Z
UID:55421-1773689400-1773694800@fahrschule-gisela.de
SUMMARY:Lektion 13
DESCRIPTION:Lektion 13
URL:https://fahrschule-gisela.de/unterricht-termine/lektion-13-61/
END:VEVENT
BEGIN:VEVENT
DTSTART;TZID=Europe/Berlin:20260317T180000
DTEND;TZID=Europe/Berlin:20260317T193000
DTSTAMP:20260424T152904
CREATED:20260307T144529Z
LAST-MODIFIED:20260307T144529Z
UID:55423-1773770400-1773775800@fahrschule-gisela.de
SUMMARY:Lektion 14
DESCRIPTION:Lektion 14
URL:https://fahrschule-gisela.de/unterricht-termine/lektion-14-65/
END:VEVENT
BEGIN:VEVENT
DTSTART;TZID=Europe/Berlin:20260318T173000
DTEND;TZID=Europe/Berlin:20260318T190000
DTSTAMP:20260424T152904
CREATED:20260307T144552Z
LAST-MODIFIED:20260307T144552Z
UID:55425-1773855000-1773860400@fahrschule-gisela.de
SUMMARY:Lektion 12
DESCRIPTION:Lektion 12
URL:https://fahrschule-gisela.de/unterricht-termine/lektion-12-64/
END:VEVENT
BEGIN:VEVENT
DTSTART;TZID=Europe/Berlin:20260318T193000
DTEND;TZID=Europe/Berlin:20260318T210000
DTSTAMP:20260424T152904
CREATED:20260307T144614Z
LAST-MODIFIED:20260307T144614Z
UID:55427-1773862200-1773867600@fahrschule-gisela.de
SUMMARY:Lektion 1
DESCRIPTION:Lektion 1
URL:https://fahrschule-gisela.de/unterricht-termine/lektion-1-75/
END:VEVENT
BEGIN:VEVENT
DTSTART;TZID=Europe/Berlin:20260319T180000
DTEND;TZID=Europe/Berlin:20260319T193000
DTSTAMP:20260424T152904
CREATED:20260307T145001Z
LAST-MODIFIED:20260307T145001Z
UID:55431-1773943200-1773948600@fahrschule-gisela.de
SUMMARY:Lektion 2
DESCRIPTION:Lektion 2
URL:https://fahrschule-gisela.de/unterricht-termine/lektion-2-72/
END:VEVENT
BEGIN:VEVENT
DTSTART;TZID=Europe/Berlin:20260320T180000
DTEND;TZID=Europe/Berlin:20260320T193000
DTSTAMP:20260424T152904
CREATED:20260307T145024Z
LAST-MODIFIED:20260307T145024Z
UID:55433-1774029600-1774035000@fahrschule-gisela.de
SUMMARY:Lektion 3
DESCRIPTION:Lektion 3
URL:https://fahrschule-gisela.de/unterricht-termine/lektion-3-70/
END:VEVENT
BEGIN:VEVENT
DTSTART;TZID=Europe/Berlin:20260321T110000
DTEND;TZID=Europe/Berlin:20260321T123000
DTSTAMP:20260424T152904
CREATED:20260307T145048Z
LAST-MODIFIED:20260307T145048Z
UID:55435-1774090800-1774096200@fahrschule-gisela.de
SUMMARY:Lektion 4
DESCRIPTION:Lektion 4
URL:https://fahrschule-gisela.de/unterricht-termine/lektion-4-65/
END:VEVENT
BEGIN:VEVENT
DTSTART;TZID=Europe/Berlin:20260321T130000
DTEND;TZID=Europe/Berlin:20260321T160000
DTSTAMP:20260424T152904
CREATED:20260318T173714Z
LAST-MODIFIED:20260318T173714Z
UID:55444-1774098000-1774108800@fahrschule-gisela.de
SUMMARY:Motorradunterricht 3&4
DESCRIPTION:Motorrad Lektion 3 & 4
URL:https://fahrschule-gisela.de/unterricht-termine/motorradunterricht-34/
END:VEVENT
BEGIN:VEVENT
DTSTART;TZID=Europe/Berlin:20260323T173000
DTEND;TZID=Europe/Berlin:20260323T190000
DTSTAMP:20260424T152904
CREATED:20260307T145120Z
LAST-MODIFIED:20260307T145120Z
UID:55437-1774287000-1774292400@fahrschule-gisela.de
SUMMARY:Lektion 13
DESCRIPTION:Lektion 13
URL:https://fahrschule-gisela.de/unterricht-termine/lektion-13-62/
END:VEVENT
BEGIN:VEVENT
DTSTART;TZID=Europe/Berlin:20260323T193000
DTEND;TZID=Europe/Berlin:20260323T210000
DTSTAMP:20260424T152904
CREATED:20260307T145143Z
LAST-MODIFIED:20260307T145143Z
UID:55439-1774294200-1774299600@fahrschule-gisela.de
SUMMARY:Lektion 5
DESCRIPTION:Lektion 5
URL:https://fahrschule-gisela.de/unterricht-termine/lektion-5-74/
END:VEVENT
BEGIN:VEVENT
DTSTART;TZID=Europe/Berlin:20260324T180000
DTEND;TZID=Europe/Berlin:20260324T193000
DTSTAMP:20260424T152904
CREATED:20260307T145225Z
LAST-MODIFIED:20260307T145225Z
UID:55441-1774375200-1774380600@fahrschule-gisela.de
SUMMARY:Lektion 6
DESCRIPTION:Lektion 6
URL:https://fahrschule-gisela.de/unterricht-termine/lektion-6-69/
END:VEVENT
BEGIN:VEVENT
DTSTART;TZID=Europe/Berlin:20260324T180000
DTEND;TZID=Europe/Berlin:20260326T193000
DTSTAMP:20260424T152904
CREATED:20260324T185700Z
LAST-MODIFIED:20260324T185700Z
UID:55451-1774375200-1774553400@fahrschule-gisela.de
SUMMARY:Lektion 8
DESCRIPTION:Lektion 8
URL:https://fahrschule-gisela.de/unterricht-termine/lektion-8-67/
END:VEVENT
END:VCALENDAR