BEGIN:VCALENDAR
VERSION:2.0
PRODID:-//Fahrschule Gisela - ECPv6.15.20//NONSGML v1.0//EN
CALSCALE:GREGORIAN
METHOD:PUBLISH
X-WR-CALNAME:Fahrschule Gisela
X-ORIGINAL-URL:https://fahrschule-gisela.de
X-WR-CALDESC:Veranstaltungen für Fahrschule Gisela
REFRESH-INTERVAL;VALUE=DURATION:PT1H
X-Robots-Tag:noindex
X-PUBLISHED-TTL:PT1H
BEGIN:VTIMEZONE
TZID:Europe/Berlin
BEGIN:DAYLIGHT
TZOFFSETFROM:+0100
TZOFFSETTO:+0200
TZNAME:CEST
DTSTART:20250330T010000
END:DAYLIGHT
BEGIN:STANDARD
TZOFFSETFROM:+0200
TZOFFSETTO:+0100
TZNAME:CET
DTSTART:20251026T010000
END:STANDARD
BEGIN:DAYLIGHT
TZOFFSETFROM:+0100
TZOFFSETTO:+0200
TZNAME:CEST
DTSTART:20260329T010000
END:DAYLIGHT
BEGIN:STANDARD
TZOFFSETFROM:+0200
TZOFFSETTO:+0100
TZNAME:CET
DTSTART:20261025T010000
END:STANDARD
BEGIN:DAYLIGHT
TZOFFSETFROM:+0100
TZOFFSETTO:+0200
TZNAME:CEST
DTSTART:20270328T010000
END:DAYLIGHT
BEGIN:STANDARD
TZOFFSETFROM:+0200
TZOFFSETTO:+0100
TZNAME:CET
DTSTART:20271031T010000
END:STANDARD
END:VTIMEZONE
BEGIN:VEVENT
DTSTART;TZID=Europe/Berlin:20260422T173000
DTEND;TZID=Europe/Berlin:20260422T190000
DTSTAMP:20260424T151059
CREATED:20260420T125746Z
LAST-MODIFIED:20260420T125746Z
UID:55515-1776879000-1776884400@fahrschule-gisela.de
SUMMARY:Lektion 7
DESCRIPTION:Lektion 7
URL:https://fahrschule-gisela.de/unterricht-termine/lektion-7-68/
END:VEVENT
BEGIN:VEVENT
DTSTART;TZID=Europe/Berlin:20260422T193000
DTEND;TZID=Europe/Berlin:20260422T210000
DTSTAMP:20260424T151059
CREATED:20260420T125907Z
LAST-MODIFIED:20260420T125907Z
UID:55517-1776886200-1776891600@fahrschule-gisela.de
SUMMARY:Lektion 1
DESCRIPTION:Lektion 1
URL:https://fahrschule-gisela.de/unterricht-termine/lektion-1-78/
END:VEVENT
END:VCALENDAR