BEGIN:VCALENDAR
VERSION:2.0
PRODID:-//Fahrschule Gisela - ECPv6.15.20//NONSGML v1.0//EN
CALSCALE:GREGORIAN
METHOD:PUBLISH
X-WR-CALNAME:Fahrschule Gisela
X-ORIGINAL-URL:https://fahrschule-gisela.de
X-WR-CALDESC:Veranstaltungen für Fahrschule Gisela
REFRESH-INTERVAL;VALUE=DURATION:PT1H
X-Robots-Tag:noindex
X-PUBLISHED-TTL:PT1H
BEGIN:VTIMEZONE
TZID:Europe/Berlin
BEGIN:DAYLIGHT
TZOFFSETFROM:+0100
TZOFFSETTO:+0200
TZNAME:CEST
DTSTART:20220327T010000
END:DAYLIGHT
BEGIN:STANDARD
TZOFFSETFROM:+0200
TZOFFSETTO:+0100
TZNAME:CET
DTSTART:20221030T010000
END:STANDARD
BEGIN:DAYLIGHT
TZOFFSETFROM:+0100
TZOFFSETTO:+0200
TZNAME:CEST
DTSTART:20230326T010000
END:DAYLIGHT
BEGIN:STANDARD
TZOFFSETFROM:+0200
TZOFFSETTO:+0100
TZNAME:CET
DTSTART:20231029T010000
END:STANDARD
BEGIN:DAYLIGHT
TZOFFSETFROM:+0100
TZOFFSETTO:+0200
TZNAME:CEST
DTSTART:20240331T010000
END:DAYLIGHT
BEGIN:STANDARD
TZOFFSETFROM:+0200
TZOFFSETTO:+0100
TZNAME:CET
DTSTART:20241027T010000
END:STANDARD
END:VTIMEZONE
BEGIN:VEVENT
DTSTART;TZID=Europe/Berlin:20230425T180000
DTEND;TZID=Europe/Berlin:20230425T193000
DTSTAMP:20260425T174622
CREATED:20230405T185037Z
LAST-MODIFIED:20230405T185037Z
UID:1695-1682445600-1682451000@fahrschule-gisela.de
SUMMARY:Thema 3
DESCRIPTION:Thema 3
URL:https://fahrschule-gisela.de/unterricht-termine/thema-3-7/
END:VEVENT
END:VCALENDAR