BEGIN:VCALENDAR
VERSION:2.0
PRODID:-//Fahrschule Gisela - ECPv6.15.20//NONSGML v1.0//EN
CALSCALE:GREGORIAN
METHOD:PUBLISH
X-ORIGINAL-URL:https://fahrschule-gisela.de
X-WR-CALDESC:Veranstaltungen für Fahrschule Gisela
REFRESH-INTERVAL;VALUE=DURATION:PT1H
X-Robots-Tag:noindex
X-PUBLISHED-TTL:PT1H
BEGIN:VTIMEZONE
TZID:Europe/Berlin
BEGIN:DAYLIGHT
TZOFFSETFROM:+0100
TZOFFSETTO:+0200
TZNAME:CEST
DTSTART:20250330T010000
END:DAYLIGHT
BEGIN:STANDARD
TZOFFSETFROM:+0200
TZOFFSETTO:+0100
TZNAME:CET
DTSTART:20251026T010000
END:STANDARD
BEGIN:DAYLIGHT
TZOFFSETFROM:+0100
TZOFFSETTO:+0200
TZNAME:CEST
DTSTART:20260329T010000
END:DAYLIGHT
BEGIN:STANDARD
TZOFFSETFROM:+0200
TZOFFSETTO:+0100
TZNAME:CET
DTSTART:20261025T010000
END:STANDARD
BEGIN:DAYLIGHT
TZOFFSETFROM:+0100
TZOFFSETTO:+0200
TZNAME:CEST
DTSTART:20270328T010000
END:DAYLIGHT
BEGIN:STANDARD
TZOFFSETFROM:+0200
TZOFFSETTO:+0100
TZNAME:CET
DTSTART:20271031T010000
END:STANDARD
END:VTIMEZONE
BEGIN:VEVENT
DTSTART;TZID=Europe/Berlin:20260424T180000
DTEND;TZID=Europe/Berlin:20260424T193000
DTSTAMP:20260424T153340
CREATED:20260421T110836Z
LAST-MODIFIED:20260421T110836Z
UID:55524-1777053600-1777059000@fahrschule-gisela.de
SUMMARY:Lektion 3
DESCRIPTION:Lektion 3
URL:https://fahrschule-gisela.de/unterricht-termine/lektion-3-73/
END:VEVENT
BEGIN:VEVENT
DTSTART;TZID=Europe/Berlin:20260425T110000
DTEND;TZID=Europe/Berlin:20260425T123000
DTSTAMP:20260424T153340
CREATED:20260421T110917Z
LAST-MODIFIED:20260421T110917Z
UID:55526-1777114800-1777120200@fahrschule-gisela.de
SUMMARY:Lektion 4
DESCRIPTION:Lektion 4
URL:https://fahrschule-gisela.de/unterricht-termine/lektion-4-68/
END:VEVENT
BEGIN:VEVENT
DTSTART;TZID=Europe/Berlin:20260425T130000
DTEND;TZID=Europe/Berlin:20260425T143000
DTSTAMP:20260424T153340
CREATED:20260421T154043Z
LAST-MODIFIED:20260421T154043Z
UID:57082-1777122000-1777127400@fahrschule-gisela.de
SUMMARY:Motorradunterricht Lektion 3
DESCRIPTION:Motorradunterricht Lektion 3
URL:https://fahrschule-gisela.de/unterricht-termine/motorradunterricht-lektion-3/
END:VEVENT
BEGIN:VEVENT
DTSTART;TZID=Europe/Berlin:20260425T143000
DTEND;TZID=Europe/Berlin:20260425T160000
DTSTAMP:20260424T153340
CREATED:20260421T154136Z
LAST-MODIFIED:20260421T154136Z
UID:57084-1777127400-1777132800@fahrschule-gisela.de
SUMMARY:Motorradunterricht Lektion 4
DESCRIPTION:Motorradunterricht Lektion 4
URL:https://fahrschule-gisela.de/unterricht-termine/motorradunterricht-lektion-4/
END:VEVENT
BEGIN:VEVENT
DTSTART;TZID=Europe/Berlin:20260427T173000
DTEND;TZID=Europe/Berlin:20260427T190000
DTSTAMP:20260424T153340
CREATED:20260421T153247Z
LAST-MODIFIED:20260421T153247Z
UID:57080-1777311000-1777316400@fahrschule-gisela.de
SUMMARY:Lektion 8
DESCRIPTION:Lektion 8
URL:https://fahrschule-gisela.de/unterricht-termine/lektion-8-71/
END:VEVENT
BEGIN:VEVENT
DTSTART;TZID=Europe/Berlin:20260427T193000
DTEND;TZID=Europe/Berlin:20260427T210000
DTSTAMP:20260424T153340
CREATED:20260421T111020Z
LAST-MODIFIED:20260421T111020Z
UID:55530-1777318200-1777323600@fahrschule-gisela.de
SUMMARY:Lektion 5
DESCRIPTION:Lektion 5
URL:https://fahrschule-gisela.de/unterricht-termine/lektion-5-77/
END:VEVENT
BEGIN:VEVENT
DTSTART;TZID=Europe/Berlin:20260428T180000
DTEND;TZID=Europe/Berlin:20260428T193000
DTSTAMP:20260424T153340
CREATED:20260421T111104Z
LAST-MODIFIED:20260421T111104Z
UID:55533-1777399200-1777404600@fahrschule-gisela.de
SUMMARY:Lektion 6
DESCRIPTION:Lektion 6
URL:https://fahrschule-gisela.de/unterricht-termine/lektion-6-72/
END:VEVENT
BEGIN:VEVENT
DTSTART;TZID=Europe/Berlin:20260429T173000
DTEND;TZID=Europe/Berlin:20260429T190000
DTSTAMP:20260424T153340
CREATED:20260421T111142Z
LAST-MODIFIED:20260421T111142Z
UID:55535-1777483800-1777489200@fahrschule-gisela.de
SUMMARY:Lektion 9
DESCRIPTION:Lektion 9
URL:https://fahrschule-gisela.de/unterricht-termine/lektion-9-71/
END:VEVENT
BEGIN:VEVENT
DTSTART;TZID=Europe/Berlin:20260429T193000
DTEND;TZID=Europe/Berlin:20260429T210000
DTSTAMP:20260424T153340
CREATED:20260421T111217Z
LAST-MODIFIED:20260421T111217Z
UID:55537-1777491000-1777496400@fahrschule-gisela.de
SUMMARY:Lektion 7
DESCRIPTION:Lektion 7
URL:https://fahrschule-gisela.de/unterricht-termine/lektion-7-69/
END:VEVENT
BEGIN:VEVENT
DTSTART;TZID=Europe/Berlin:20260430T180000
DTEND;TZID=Europe/Berlin:20260430T193000
DTSTAMP:20260424T153340
CREATED:20260421T111252Z
LAST-MODIFIED:20260421T111252Z
UID:55539-1777572000-1777577400@fahrschule-gisela.de
SUMMARY:Lektion 8
DESCRIPTION:Lektion 8
URL:https://fahrschule-gisela.de/unterricht-termine/lektion-8-70/
END:VEVENT
END:VCALENDAR